BEGIN:VCALENDAR
VERSION:2.0
PRODID:icalendar-ruby
CALSCALE:GREGORIAN
METHOD:PUBLISH
BEGIN:VEVENT
DTSTAMP:20260423T225058Z
UID:43-2177306@man.southgatealliance.net
DTSTART:20261017T130000Z
DTEND:20261017T150000Z
CLASS:PUBLIC
CREATED:20260423T161057
DESCRIPTION:每周六早7AM\, 地点: Zoom 403 668 6688 (密码2020）。
 同心开口向神祷告，一起见证主的恩典，欢迎弟兄姐妹
 们参加。
LAST-MODIFIED:20260423T161057
LOCATION:
SUMMARY:周六晨禱 [Zoom] 7AM 4036686688 密碼2020
URL;VALUE=URI:https://man.southgatealliance.net/events/zoom-7am-4036686688-
 2020/2026-10-17
END:VEVENT
END:VCALENDAR
