BEGIN:VCALENDAR
VERSION:2.0
PRODID:icalendar-ruby
CALSCALE:GREGORIAN
METHOD:PUBLISH
BEGIN:VEVENT
DTSTAMP:20260423T204347Z
UID:46-2176684@man.southgatealliance.net
DTSTART:20261101T213000Z
DTEND:20261101T233000Z
CLASS:PUBLIC
CREATED:20260423T131647
DESCRIPTION:圣经知识趣味班  Bible Quizzing\n   \n   负责人
 ： 徐崇悦 崔俊爱  衣尚敏\n   老师： Mike Boschmann\n   
 时间： 周日2:30pm - 4:30pm\n   教室： 教会儿童主日学教
 室
LAST-MODIFIED:20260423T131647
LOCATION:教会儿童主日学教室
SUMMARY:圣经知识趣味班  Bible Quizzing
URL;VALUE=URI:https://man.southgatealliance.net/events/bible-quizzing/2026-
 11-01
ATTACH;FILENAME=Screenshot 2026-03-08 211504.png;FMTTYPE=image/png:https://
 dq5pwpg1q8ru0.cloudfront.net/2026/03/09/03/19/05/1d976e71-7cae-40f1-9f22-1
 2e7e1b0ed75/Screenshot%202026-03-08%20211504.png
END:VEVENT
END:VCALENDAR
